BEGIN:VCALENDAR
VERSION:2.0
PRODID:-//The Academy of Systematic Kinesiology - ECPv6.15.20//NONSGML v1.0//EN
CALSCALE:GREGORIAN
METHOD:PUBLISH
X-ORIGINAL-URL:https://kinesiology.co.uk
X-WR-CALDESC:Events for The Academy of Systematic Kinesiology
REFRESH-INTERVAL;VALUE=DURATION:PT1H
X-Robots-Tag:noindex
X-PUBLISHED-TTL:PT1H
BEGIN:VTIMEZONE
TZID:Europe/London
BEGIN:DAYLIGHT
TZOFFSETFROM:+0000
TZOFFSETTO:+0100
TZNAME:BST
DTSTART:20250330T010000
END:DAYLIGHT
BEGIN:STANDARD
TZOFFSETFROM:+0100
TZOFFSETTO:+0000
TZNAME:GMT
DTSTART:20251026T010000
END:STANDARD
BEGIN:DAYLIGHT
TZOFFSETFROM:+0000
TZOFFSETTO:+0100
TZNAME:BST
DTSTART:20260329T010000
END:DAYLIGHT
BEGIN:STANDARD
TZOFFSETFROM:+0100
TZOFFSETTO:+0000
TZNAME:GMT
DTSTART:20261025T010000
END:STANDARD
BEGIN:DAYLIGHT
TZOFFSETFROM:+0000
TZOFFSETTO:+0100
TZNAME:BST
DTSTART:20270328T010000
END:DAYLIGHT
BEGIN:STANDARD
TZOFFSETFROM:+0100
TZOFFSETTO:+0000
TZNAME:GMT
DTSTART:20271031T010000
END:STANDARD
BEGIN:DAYLIGHT
TZOFFSETFROM:+0000
TZOFFSETTO:+0100
TZNAME:BST
DTSTART:20280326T010000
END:DAYLIGHT
BEGIN:STANDARD
TZOFFSETFROM:+0100
TZOFFSETTO:+0000
TZNAME:GMT
DTSTART:20281029T010000
END:STANDARD
END:VTIMEZONE
BEGIN:VEVENT
DTSTART;TZID=Europe/London:20260921T093000
DTEND;TZID=Europe/London:20270418T173000
DTSTAMP:20260425T144130
CREATED:20260325T095528Z
LAST-MODIFIED:20260325T095617Z
UID:6215-1789983000-1808069400@kinesiology.co.uk
SUMMARY:Systematic Kinesiology Practitioner Course – Grantham
DESCRIPTION:This course is run by TASK tutor Lisa Burgess\nOrientation: Monday 21 September and Tuesday 22 September 2026\nTACT: (The Advanced Communications Training): Monday 12 -Wednesday 14 October 2026\nModules 1 & 2: Saturday 7 November and Sunday 8 November 2026\nModules 3 & 4: Thursday 10 December and Friday 11 December 2026\nModules 5 & 6: Saturday 23 January and Sunday 24 January 2027\nModules 7 & 8: Monday 22 February and Tuesday 23 February 2027\nModules 9 & 10:: Monday 9 March and Tuesday 10 March 2027\nModules 9 & 10: Saturday 18 and Sunday 18 April 2027 \n\n\nEXAM: TBA \nCost to enrol and payment options\nTotal cost of course £3\,500 (inc. VAT)\nA deposit of £1000 is due upon enrolment and is non-refundable. \nThere are three payment plans thereafter: \n\nPay the balance of £2500 outright two weeks before the course starts\nPay the balance over 9 months. Nine payments of £290.00 each\nTotal £3\,610 (inc.£110 admin fee)\n\nAll course materials are included in the price: Course manuals and full-colour notes\, Clinic Practice session and Final Exam. There are no hidden costs. \nPay your deposit of £1000 to secure your spot. \nBook on our Practitioner Course Now
URL:https://kinesiology.co.uk/event/systematic-kinesiology-practitioner-course-grantham-september-2026/
LOCATION:Grantham\, Balanced Natural Health Clinic\,\, Westholme\, Allington Road\, Sedgebrook\, Grantham\, Lincolnshire\, NG32 2EL\, United Kingdom
CATEGORIES:Practitioner Courses Taught by Other Tutors
END:VEVENT
BEGIN:VEVENT
DTSTART;TZID=Europe/London:20261024T093000
DTEND;TZID=Europe/London:20270328T170000
DTSTAMP:20260425T144130
CREATED:20260203T153246Z
LAST-MODIFIED:20260203T153246Z
UID:6119-1792834200-1806253200@kinesiology.co.uk
SUMMARY:Systematic Kinesiology Practitioner Course – Bristol 2026/27
DESCRIPTION:This Practitioner Course is run by TASK Tutor Dawn Bailey \nOrientation Weekend: Saturday 24 and Sunday 25 October 2026\nTACT Weekend: Friday 6\, Saturday 7\, Sunday 8 November 2026 (TACT: The Advanced Communications Training)\nModules 1 & 2: Saturday 5 and Sunday 6 December 2026\nModules 3 & 4: Saturday 2 and Sunday 13 January 2027\nModules 5 & 6: Saturday 30 and Sunday 31 January 2027\nModules 7 & 8: Saturday 27 and Sunday 28 February 2027\nModules 9 & 10: Saturday 27 and Sunday 28 March 2027 \nEXAM: Monday 25 April 2027 \nCost to enrol and payment options\nTotal cost of course £3\,995 (inc. VAT)\nA deposit of £1000 is due upon enrolment and is non-refundable. \nThere are two payment options thereafter: \n\nPay the balance of £2995 outright two weeks before the course starts\nPay the balance over 9 months. Nine payments of £345 each\nTotal £4\,105 (inc.£110 admin fee)\n\n\nAll course materials are included in the price: Course manuals and full-colour notes\, Clinic Practice session and Final Exam. There are no hidden costs. \nBook on this Practitioner Course Now
URL:https://kinesiology.co.uk/event/systematic-kinesiology-practitioner-course-bristol-2026-27/
LOCATION:Bristol – Foundation\, Yanley Court\, Long Ashton Business park\, Yanley Lane\,\, Bristol\, BS41 9LB\, United Kingdom
CATEGORIES:Practitioner Courses Taught by Other Tutors
END:VEVENT
END:VCALENDAR