BEGIN:VCALENDAR
VERSION:2.0
PRODID:-//The Academy of Systematic Kinesiology - ECPv6.15.20//NONSGML v1.0//EN
CALSCALE:GREGORIAN
METHOD:PUBLISH
X-WR-CALNAME:The Academy of Systematic Kinesiology
X-ORIGINAL-URL:https://kinesiology.co.uk
X-WR-CALDESC:Events for The Academy of Systematic Kinesiology
REFRESH-INTERVAL;VALUE=DURATION:PT1H
X-Robots-Tag:noindex
X-PUBLISHED-TTL:PT1H
BEGIN:VTIMEZONE
TZID:Europe/London
BEGIN:DAYLIGHT
TZOFFSETFROM:+0000
TZOFFSETTO:+0100
TZNAME:BST
DTSTART:20150329T010000
END:DAYLIGHT
BEGIN:STANDARD
TZOFFSETFROM:+0100
TZOFFSETTO:+0000
TZNAME:GMT
DTSTART:20151025T010000
END:STANDARD
BEGIN:DAYLIGHT
TZOFFSETFROM:+0000
TZOFFSETTO:+0100
TZNAME:BST
DTSTART:20160327T010000
END:DAYLIGHT
BEGIN:STANDARD
TZOFFSETFROM:+0100
TZOFFSETTO:+0000
TZNAME:GMT
DTSTART:20161030T010000
END:STANDARD
BEGIN:DAYLIGHT
TZOFFSETFROM:+0000
TZOFFSETTO:+0100
TZNAME:BST
DTSTART:20170326T010000
END:DAYLIGHT
BEGIN:STANDARD
TZOFFSETFROM:+0100
TZOFFSETTO:+0000
TZNAME:GMT
DTSTART:20171029T010000
END:STANDARD
BEGIN:DAYLIGHT
TZOFFSETFROM:+0000
TZOFFSETTO:+0100
TZNAME:BST
DTSTART:20180325T010000
END:DAYLIGHT
BEGIN:STANDARD
TZOFFSETFROM:+0100
TZOFFSETTO:+0000
TZNAME:GMT
DTSTART:20181028T010000
END:STANDARD
BEGIN:DAYLIGHT
TZOFFSETFROM:+0000
TZOFFSETTO:+0100
TZNAME:BST
DTSTART:20190331T010000
END:DAYLIGHT
BEGIN:STANDARD
TZOFFSETFROM:+0100
TZOFFSETTO:+0000
TZNAME:GMT
DTSTART:20191027T010000
END:STANDARD
END:VTIMEZONE
BEGIN:VEVENT
DTSTART;TZID=Europe/London:20180212T190000
DTEND;TZID=Europe/London:20180212T203000
DTSTAMP:20260422T095154
CREATED:20180131T155713Z
LAST-MODIFIED:20180201T113531Z
UID:1239-1518462000-1518467400@kinesiology.co.uk
SUMMARY:Free Online Kinesiology Taster Event
DESCRIPTION:Learn more about Kinesiology and TASK\nTASK Principal Claire Muller is hosting a free online Kinesiology Taster Event. \nAre you looking to improve your own or other people’s health? Are you an existing complementary health practitioner looking to enhance your current skill set or even wondering about changing your career? Come to our free online introduction to learn more about how Kinesiology works to improve health in every way from aches and pains\, IBS to emotional stress\, upsets and issues. Kinesiology takes the guesswork out of health care. \nThere will be plenty of time for Q&A’s at the end too \nSimply register via the link below \nYes\, sign me up
URL:https://kinesiology.co.uk/event/online-taster-event/
LOCATION:Online\, Online\, United Kingdom
CATEGORIES:Kinesiology Online Courses,Kinesiology Taster Events
END:VEVENT
BEGIN:VEVENT
DTSTART;TZID=Europe/London:20180207T190000
DTEND;TZID=Europe/London:20180207T203000
DTSTAMP:20260422T095154
CREATED:20170913T094550Z
LAST-MODIFIED:20180126T134614Z
UID:1037-1518030000-1518035400@kinesiology.co.uk
SUMMARY:Kinesiology Taster - Bristol
DESCRIPTION:This taster is run by Essence Health Training. Our Regional Courses are taught by certified TASK Tutors. They are qualified and approved to teach the TASK Foundation Course syllabus.
URL:https://kinesiology.co.uk/event/kinesiology-taster-bristol-5/
LOCATION:Bradford upon Avon – Lucy\, Monkton Farleigh Village Hall\, Monkton Farleigh\, Bradford Upon Avon\, BA15 2QD\, United Kingdom
CATEGORIES:Kinesiology Taster Events
END:VEVENT
BEGIN:VEVENT
DTSTART;TZID=Europe/London:20180125T190000
DTEND;TZID=Europe/London:20180125T203000
DTSTAMP:20260422T095154
CREATED:20171109T143726Z
LAST-MODIFIED:20180112T121633Z
UID:1124-1516906800-1516912200@kinesiology.co.uk
SUMMARY:Kinesiology Taster – Bexley Kent
DESCRIPTION:This taster is run by Health’s Angels. Our Regional Courses are taught by certified TASK Tutors. They are qualified and approved to teach the TASK Foundation Course syllabus.
URL:https://kinesiology.co.uk/event/kinesiology-taster-bexley-kent-4/
LOCATION:Bexley\, Kent\, Cambridge Harriers Athletic Club\,\, 60A Glenhurst Avenue\, Kent\, DA5 3QW\, United Kingdom
CATEGORIES:Kinesiology Taster Events
END:VEVENT
BEGIN:VEVENT
DTSTART;TZID=Europe/London:20180110T190000
DTEND;TZID=Europe/London:20180110T210000
DTSTAMP:20260422T095154
CREATED:20171207T143210Z
LAST-MODIFIED:20171207T143210Z
UID:1181-1515610800-1515618000@kinesiology.co.uk
SUMMARY:Kinesiology Taster Event – London
DESCRIPTION:This is a great opportunity to experience Kinesiology\, enjoy an informative evening and learn how you can improve all aspects of health.\nClick here for more information
URL:https://kinesiology.co.uk/event/kinesiology-taster-event-london-4/
LOCATION:London: Columbia Hotel\, Columbia Hotel\, 95-99 Lancaster Gate\, London\, W2 3NS\, United Kingdom
CATEGORIES:Kinesiology Taster Events - London
END:VEVENT
BEGIN:VEVENT
DTSTART;TZID=Europe/London:20171122T190000
DTEND;TZID=Europe/London:20171122T210000
DTSTAMP:20260422T095154
CREATED:20170913T132254Z
LAST-MODIFIED:20170913T132445Z
UID:1041-1511377200-1511384400@kinesiology.co.uk
SUMMARY:Kinesiology Taster Event – London
DESCRIPTION:This taster event is run by TASK.
URL:https://kinesiology.co.uk/event/kinesiology-taster-event-london-3/
LOCATION:London: Columbia Hotel\, Columbia Hotel\, 95-99 Lancaster Gate\, London\, W2 3NS\, United Kingdom
CATEGORIES:Kinesiology Taster Events - London
END:VEVENT
BEGIN:VEVENT
DTSTART;TZID=Europe/London:20171115T190000
DTEND;TZID=Europe/London:20171115T203000
DTSTAMP:20260422T095154
CREATED:20170913T094255Z
LAST-MODIFIED:20170913T094255Z
UID:1035-1510772400-1510777800@kinesiology.co.uk
SUMMARY:Kinesiology Taster - Bristol
DESCRIPTION:This taster is run by Essence Health Training. Our Regional Courses are taught by certified TASK Tutors. They are qualified and approved to teach the TASK Foundation Course syllabus.
URL:https://kinesiology.co.uk/event/kinesiology-taster-bristol-4/
LOCATION:Bradford upon Avon – Lucy\, Monkton Farleigh Village Hall\, Monkton Farleigh\, Bradford Upon Avon\, BA15 2QD\, United Kingdom
CATEGORIES:Kinesiology Taster Events
END:VEVENT
BEGIN:VEVENT
DTSTART;TZID=Europe/London:20171019T190000
DTEND;TZID=Europe/London:20171019T203000
DTSTAMP:20260422T095154
CREATED:20171017T123924Z
LAST-MODIFIED:20171017T123924Z
UID:1095-1508439600-1508445000@kinesiology.co.uk
SUMMARY:Kinesiology Taster - Bexley Kent
DESCRIPTION:This taster is run by Health’s Angels. Our Regional Courses are taught by certified TASK Tutors. They are qualified and approved to teach the TASK Foundation Course syllabus.
URL:https://kinesiology.co.uk/event/kinesiology-taster-bexley-kent-2/
LOCATION:Bexley\, Kent\, Cambridge Harriers Athletic Club\,\, 60A Glenhurst Avenue\, Kent\, DA5 3QW\, United Kingdom
CATEGORIES:Kinesiology Taster Events
END:VEVENT
BEGIN:VEVENT
DTSTART;TZID=Europe/London:20170926T190000
DTEND;TZID=Europe/London:20170926T190000
DTSTAMP:20260422T095154
CREATED:20170808T081106Z
LAST-MODIFIED:20170921T165919Z
UID:965-1506452400-1506452400@kinesiology.co.uk
SUMMARY:Kinesiology Taster - Bexley\, Kent
DESCRIPTION:This Taster Event is run by Health’s Angels. Our Regional Courses are taught by certified TASK Tutors. They are qualified and approved to teach the TASK Foundation Course syllabus.
URL:https://kinesiology.co.uk/event/kinesiology-taster-bexley-kent/
LOCATION:Bexley\, Kent\, Cambridge Harriers Athletic Club\,\, 60A Glenhurst Avenue\, Kent\, DA5 3QW\, United Kingdom
CATEGORIES:Kinesiology Taster Events
END:VEVENT
BEGIN:VEVENT
DTSTART;TZID=Europe/London:20170906T190000
DTEND;TZID=Europe/London:20170906T203000
DTSTAMP:20260422T095154
CREATED:20170703T084151Z
LAST-MODIFIED:20170703T084151Z
UID:931-1504724400-1504729800@kinesiology.co.uk
SUMMARY:Kinesiology Taster - Bristol
DESCRIPTION:This taster is run by Essence Health Training. Our Regional Courses are taught by certified TASK Tutors. They are qualified and approved to teach the TASK Foundation Course syllabus.
URL:https://kinesiology.co.uk/event/kinesiology-taster-bristol-3/
LOCATION:Bradford upon Avon – Lucy\, Monkton Farleigh Village Hall\, Monkton Farleigh\, Bradford Upon Avon\, BA15 2QD\, United Kingdom
CATEGORIES:Kinesiology Taster Events
END:VEVENT
BEGIN:VEVENT
DTSTART;TZID=Europe/London:20170831T190000
DTEND;TZID=Europe/London:20170831T210000
DTSTAMP:20260422T095154
CREATED:20170615T091657Z
LAST-MODIFIED:20170615T091657Z
UID:899-1504206000-1504213200@kinesiology.co.uk
SUMMARY:Kinesiology Taster Event – London
DESCRIPTION:This taster event is run by TASK. Please scroll down for ticket sales.
URL:https://kinesiology.co.uk/event/kinesiology-taster-event-london-2/
LOCATION:London: Columbia Hotel\, Columbia Hotel\, 95-99 Lancaster Gate\, London\, W2 3NS\, United Kingdom
CATEGORIES:Kinesiology Taster Events - London
END:VEVENT
BEGIN:VEVENT
DTSTART;TZID=Europe/London:20170713T190000
DTEND;TZID=Europe/London:20170713T203000
DTSTAMP:20260422T095154
CREATED:20170320T155310Z
LAST-MODIFIED:20170320T160554Z
UID:657-1499972400-1499977800@kinesiology.co.uk
SUMMARY:Taster - Bexley\, Kent
DESCRIPTION:This Taster Event is run by Health’s Angels. Our Regional Courses are taught by certified TASK Tutors. They are qualified and approved to teach the TASK Foundation Course syllabus.
URL:https://kinesiology.co.uk/event/taster-bexley-kent-3/
LOCATION:Bexley\, Kent\, Cambridge Harriers Athletic Club\,\, 60A Glenhurst Avenue\, Kent\, DA5 3QW\, United Kingdom
CATEGORIES:Kinesiology Taster Events
END:VEVENT
BEGIN:VEVENT
DTSTART;TZID=Europe/London:20170713T190000
DTEND;TZID=Europe/London:20170713T194500
DTSTAMP:20260422T095154
CREATED:20170614T162949Z
LAST-MODIFIED:20170701T105248Z
UID:891-1499972400-1499975100@kinesiology.co.uk
SUMMARY:Free Online Introduction to Kinesiology
DESCRIPTION:Interested in learning more about Kinesiology and TASK?\nTASK Principal Claire Muller is hosting a free online Introduction to Kinesiology. \nAre you looking to improve your own or other people’s health? Are you an existing complementary health practitioner looking to enhance your current skill set or even wondering about changing your career? Come to our free online introduction to learn more about  how Kinesiology works to improve health in every way from aches and pains\, IBS to emotional stress\, upsets and issues. Kinesiology takes the guess work out of health care. \nThere will be plenty of time for Q&A’s at the end. \nFill in the form below to register
URL:https://kinesiology.co.uk/event/online-introduction-kinesiology/
LOCATION:Online\, Online\, United Kingdom
CATEGORIES:Kinesiology Online Courses,Kinesiology Taster Events
END:VEVENT
BEGIN:VEVENT
DTSTART;TZID=Europe/London:20170712T190000
DTEND;TZID=Europe/London:20170712T203000
DTSTAMP:20260422T095154
CREATED:20170703T083842Z
LAST-MODIFIED:20170703T083917Z
UID:929-1499886000-1499891400@kinesiology.co.uk
SUMMARY:Kinesiology Taster - Bristol
DESCRIPTION:This taster is run by Essence Health Training. Our Regional Courses are taught by certified TASK Tutors. They are qualified and approved to teach the TASK Foundation Course syllabus.
URL:https://kinesiology.co.uk/event/kinesiology-taster-bristol-2/
LOCATION:Bradford upon Avon – Lucy\, Monkton Farleigh Village Hall\, Monkton Farleigh\, Bradford Upon Avon\, BA15 2QD\, United Kingdom
CATEGORIES:Kinesiology Taster Events
END:VEVENT
BEGIN:VEVENT
DTSTART;TZID=Europe/London:20170614T190000
DTEND;TZID=Europe/London:20170614T210000
DTSTAMP:20260422T095154
CREATED:20170315T153112Z
LAST-MODIFIED:20170615T091821Z
UID:644-1497466800-1497474000@kinesiology.co.uk
SUMMARY:Kinesiology Taster Event - London
DESCRIPTION:This taster event is run by TASK. Please scroll down for ticket sales.
URL:https://kinesiology.co.uk/event/kinesiology-taster-event-london-2-2/
LOCATION:London: Columbia Hotel\, Columbia Hotel\, 95-99 Lancaster Gate\, London\, W2 3NS\, United Kingdom
CATEGORIES:Kinesiology Taster Events - London
END:VEVENT
BEGIN:VEVENT
DTSTART;TZID=Europe/London:20170518T190000
DTEND;TZID=Europe/London:20170518T210000
DTSTAMP:20260422T095154
CREATED:20170320T153951Z
LAST-MODIFIED:20170320T160113Z
UID:654-1495134000-1495141200@kinesiology.co.uk
SUMMARY:Taster - Bexley\, Kent
DESCRIPTION:This Taster Event is run by Health’s Angels. Our Regional Courses are taught by certified TASK Tutors. They are qualified and approved to teach the TASK Foundation Course syllabus.
URL:https://kinesiology.co.uk/event/taster-bexley-kent/
LOCATION:Bexley\, Kent\, Cambridge Harriers Athletic Club\,\, 60A Glenhurst Avenue\, Kent\, DA5 3QW\, United Kingdom
CATEGORIES:Kinesiology Taster Events
END:VEVENT
BEGIN:VEVENT
DTSTART;TZID=Europe/London:20170221T190000
DTEND;TZID=Europe/London:20170221T203000
DTSTAMP:20260422T095154
CREATED:20170219T103157Z
LAST-MODIFIED:20170219T103257Z
UID:602-1487703600-1487709000@kinesiology.co.uk
SUMMARY:Free Online Kinesiology Demo
DESCRIPTION:Interested in learning more about Kinesiology and TASK?\nTASK principle Claire Muller is hosting a FREE webinar ‘Introduction to Kinesiology and live demonstration’ \nTuesday 21st February 7.00-8.30pm \nAs well as talking about the benefits of Kinesiology\, Claire will also be demonstrating live muscle testing and sharing information about intolerance and sensitivity testing and how you can improve all aspects of health for yourself and others. \nHere’s that link to register and join us live!
URL:https://kinesiology.co.uk/event/free-online-kinesiology-demo/
LOCATION:Online\, Online\, United Kingdom
CATEGORIES:Kinesiology Taster Events
END:VEVENT
BEGIN:VEVENT
DTSTART;TZID=Europe/London:20170209T073000
DTEND;TZID=Europe/London:20170209T203000
DTSTAMP:20260422T095154
CREATED:20170207T095409Z
LAST-MODIFIED:20170207T095650Z
UID:585-1486625400-1486672200@kinesiology.co.uk
SUMMARY:Free Online Kinesiology Taster
DESCRIPTION:Interested in learning more about Kinesiology and TASK?\nTASK principle Claire Muller is hosting a FREE webinar ‘Introduction to Kinesiology’ \nThursday 9th February 7.30-8.30pm \nAs well as talking about the benefits of Kinesiology\, Claire will also be sharing information about muscle testing\, intolerance and sensitivity testing  and how you can improve all aspects of health for yourself and others. \nHere’s that link to join us live.
URL:https://kinesiology.co.uk/event/free-online-kinesiology-taster/
LOCATION:Online\, Online\, United Kingdom
CATEGORIES:Kinesiology Taster Events,Kinesiology Taster Events - London
END:VEVENT
BEGIN:VEVENT
DTSTART;TZID=Europe/London:20170208T190000
DTEND;TZID=Europe/London:20170208T203000
DTSTAMP:20260422T095154
CREATED:20170103T081758Z
LAST-MODIFIED:20170201T124849Z
UID:411-1486580400-1486585800@kinesiology.co.uk
SUMMARY:Kinesiology Taster Event – Bristol
DESCRIPTION:This taster event is run by Essence Health Training. Our Regional Courses are taught by certified TASK Tutors. They are qualified and approved to teach the TASK Foundation Course syllabus. 
URL:https://kinesiology.co.uk/event/kinesiology-taster-event-bristol/
LOCATION:Bradford upon Avon – Lucy\, Monkton Farleigh Village Hall\, Monkton Farleigh\, Bradford Upon Avon\, BA15 2QD\, United Kingdom
CATEGORIES:Kinesiology Taster Events
END:VEVENT
BEGIN:VEVENT
DTSTART;TZID=Europe/London:20170206T190000
DTEND;TZID=Europe/London:20170206T210000
DTSTAMP:20260422T095154
CREATED:20170121T164143Z
LAST-MODIFIED:20170121T164143Z
UID:558-1486407600-1486414800@kinesiology.co.uk
SUMMARY:Kinesiology Taster Event – Sutton
DESCRIPTION:This taster event is run by Andrea Clarke. Our Regional Courses are taught by certified TASK Tutors. They are qualified and approved to teach the TASK Foundation Course syllabus. 
URL:https://kinesiology.co.uk/event/kinesiology-taster-event-sutton/
LOCATION:Sutton\, South East London\, Sutton Sports Injury and Physio Clinic\, Sutton Sports Village\, Rose hill park\, Sutton\, Surrey\, SM1 3HH\, United Kingdom
CATEGORIES:Kinesiology Taster Events
END:VEVENT
BEGIN:VEVENT
DTSTART;TZID=Europe/London:20170202T190000
DTEND;TZID=Europe/London:20170202T203000
DTSTAMP:20260422T095154
CREATED:20161025T175503Z
LAST-MODIFIED:20170118T214942Z
UID:125-1486062000-1486067400@kinesiology.co.uk
SUMMARY:Kinesiology Taster Event - Bexley\, Kent
DESCRIPTION:This taster event is run by Health’s Angels. Our Regional Courses are taught by certified TASK Tutors. They are qualified and approved to teach the TASK Foundation Course syllabus. Please scroll down to book.
URL:https://kinesiology.co.uk/event/bexley-kent-kinesiology-taster-event-3/
LOCATION:Bexley\, Kent\, Cambridge Harriers Athletic Club\,\, 60A Glenhurst Avenue\, Kent\, DA5 3QW\, United Kingdom
CATEGORIES:Kinesiology Taster Events
END:VEVENT
BEGIN:VEVENT
DTSTART;TZID=Europe/London:20170124T190000
DTEND;TZID=Europe/London:20170124T203000
DTSTAMP:20260422T095154
CREATED:20170106T152407Z
LAST-MODIFIED:20170116T230822Z
UID:465-1485284400-1485289800@kinesiology.co.uk
SUMMARY:Kinesiology Taster Event – Thames Ditton
DESCRIPTION:This taster event is run by Tracey Mason. Our Regional Courses are taught by certified TASK Tutors. They are qualified and approved to teach the TASK Foundation Course syllabus. 
URL:https://kinesiology.co.uk/event/kinesiology-taster-event-thames-ditton/
LOCATION:Thames Ditton\, Surrey\, 98 Summer Road\, Thames Ditton\, KT7 0DQ\, United Kingdom
CATEGORIES:Kinesiology Taster Events
END:VEVENT
BEGIN:VEVENT
DTSTART;TZID=Europe/London:20170118T190000
DTEND;TZID=Europe/London:20170118T203000
DTSTAMP:20260422T095154
CREATED:20170103T075822Z
LAST-MODIFIED:20170113T164322Z
UID:409-1484766000-1484771400@kinesiology.co.uk
SUMMARY:Kinesiology Taster Event – Bristol
DESCRIPTION:This taster event is run by Essence Health Training. Our Regional Courses are taught by certified TASK Tutors. They are qualified and approved to teach the TASK Foundation Course syllabus.\nPlease scroll down to book.
URL:https://kinesiology.co.uk/event/kinesiology-taster-bristol/
LOCATION:Bradford upon Avon – Lucy\, Monkton Farleigh Village Hall\, Monkton Farleigh\, Bradford Upon Avon\, BA15 2QD\, United Kingdom
CATEGORIES:Kinesiology Taster Events
END:VEVENT
BEGIN:VEVENT
DTSTART;TZID=Europe/London:20170112T190000
DTEND;TZID=Europe/London:20170112T210000
DTSTAMP:20260422T095154
CREATED:20161206T110015Z
LAST-MODIFIED:20170106T203238Z
UID:328-1484247600-1484254800@kinesiology.co.uk
SUMMARY:Kinesiology Taster Event - London
DESCRIPTION:This taster event is run by TASK. Please scroll down for ticket sales.
URL:https://kinesiology.co.uk/event/kinesiology-taster-event-london/
LOCATION:London: Columbia Hotel\, Columbia Hotel\, 95-99 Lancaster Gate\, London\, W2 3NS\, United Kingdom
CATEGORIES:Kinesiology Taster Events,Kinesiology Taster Events - London
END:VEVENT
BEGIN:VEVENT
DTSTART;TZID=Europe/London:20170112T190000
DTEND;TZID=Europe/London:20170112T203000
DTSTAMP:20260422T095154
CREATED:20161025T175335Z
LAST-MODIFIED:20170113T164541Z
UID:124-1484247600-1484253000@kinesiology.co.uk
SUMMARY:Kinesiology Taster Event - Bexley\, Kent
DESCRIPTION:This taster is run by Health’s Angels. Our Regional Courses are taught by certified TASK Tutors. They are qualified and approved to teach the TASK Foundation Course syllabus. Please scroll down to book.
URL:https://kinesiology.co.uk/event/bexley-kent-kinesiology-taster-event-2/
LOCATION:Bexley\, Kent\, Cambridge Harriers Athletic Club\,\, 60A Glenhurst Avenue\, Kent\, DA5 3QW\, United Kingdom
CATEGORIES:Kinesiology Taster Events
END:VEVENT
BEGIN:VEVENT
DTSTART;TZID=Europe/London:20161214T193000
DTEND;TZID=Europe/London:20161214T203000
DTSTAMP:20260422T095154
CREATED:20161025T171409Z
LAST-MODIFIED:20170113T105550Z
UID:117-1481743800-1481747400@kinesiology.co.uk
SUMMARY:Kinesiology Taster Event - Bristol
DESCRIPTION:This taster event is run by Essence Health Training. Our Regional Courses are taught by certified TASK Tutors. They are qualified and approved to teach the TASK Foundation Course syllabus. 
URL:https://kinesiology.co.uk/event/bristol-kinesiology-taster-event/
LOCATION:Bradford upon Avon – Lucy\, Monkton Farleigh Village Hall\, Monkton Farleigh\, Bradford Upon Avon\, BA15 2QD\, United Kingdom
CATEGORIES:Kinesiology Taster Events
END:VEVENT
BEGIN:VEVENT
DTSTART;TZID=Europe/London:20161130T190000
DTEND;TZID=Europe/London:20161130T210000
DTSTAMP:20260422T095154
CREATED:20161025T160635Z
LAST-MODIFIED:20161124T161218Z
UID:112-1480532400-1480539600@kinesiology.co.uk
SUMMARY:Kinesiology Taster Event - London
DESCRIPTION:
URL:https://kinesiology.co.uk/event/london-kinesiology-taster-event/
LOCATION:London: Columbia Hotel\, Columbia Hotel\, 95-99 Lancaster Gate\, London\, W2 3NS\, United Kingdom
CATEGORIES:Kinesiology Taster Events
END:VEVENT
BEGIN:VEVENT
DTSTART;TZID=Europe/London:20161124T190000
DTEND;TZID=Europe/London:20161124T203000
DTSTAMP:20260422T095154
CREATED:20161025T174958Z
LAST-MODIFIED:20170113T103641Z
UID:121-1480014000-1480019400@kinesiology.co.uk
SUMMARY:Kinesiology Taster Event - Bexley\, Kent
DESCRIPTION:This taster event is run by Vanessa Spiers. Our Regional Courses are taught by certified TASK Tutors. They are qualified and approved to teach the TASK Foundation Course syllabus. 
URL:https://kinesiology.co.uk/event/bexley-kent-kinesiology-taster-event/
LOCATION:Bexley\, Kent\, Cambridge Harriers Athletic Club\,\, 60A Glenhurst Avenue\, Kent\, DA5 3QW\, United Kingdom
CATEGORIES:Kinesiology Taster Events
END:VEVENT
END:VCALENDAR